BEGIN:VCALENDAR
VERSION:2.0
PRODID:-//CVJM Münchberg e.V. - ECPv6.15.18//NONSGML v1.0//EN
CALSCALE:GREGORIAN
METHOD:PUBLISH
X-ORIGINAL-URL:https://cvjm-muenchberg.de
X-WR-CALDESC:Veranstaltungen für CVJM Münchberg e.V.
REFRESH-INTERVAL;VALUE=DURATION:PT1H
X-Robots-Tag:noindex
X-PUBLISHED-TTL:PT1H
BEGIN:VTIMEZONE
TZID:Europe/Berlin
BEGIN:DAYLIGHT
TZOFFSETFROM:+0100
TZOFFSETTO:+0200
TZNAME:CEST
DTSTART:20240331T010000
END:DAYLIGHT
BEGIN:STANDARD
TZOFFSETFROM:+0200
TZOFFSETTO:+0100
TZNAME:CET
DTSTART:20241027T010000
END:STANDARD
BEGIN:DAYLIGHT
TZOFFSETFROM:+0100
TZOFFSETTO:+0200
TZNAME:CEST
DTSTART:20250330T010000
END:DAYLIGHT
BEGIN:STANDARD
TZOFFSETFROM:+0200
TZOFFSETTO:+0100
TZNAME:CET
DTSTART:20251026T010000
END:STANDARD
BEGIN:DAYLIGHT
TZOFFSETFROM:+0100
TZOFFSETTO:+0200
TZNAME:CEST
DTSTART:20260329T010000
END:DAYLIGHT
BEGIN:STANDARD
TZOFFSETFROM:+0200
TZOFFSETTO:+0100
TZNAME:CET
DTSTART:20261025T010000
END:STANDARD
END:VTIMEZONE
BEGIN:VEVENT
DTSTART;TZID=Europe/Berlin:20250512T150000
DTEND;TZID=Europe/Berlin:20250512T163000
DTSTAMP:20260420T004233
CREATED:20250211T150731Z
LAST-MODIFIED:20250511T190745Z
UID:10001057-1747062000-1747067400@cvjm-muenchberg.de
SUMMARY:Kinderstunde
DESCRIPTION:
URL:https://cvjm-muenchberg.de/event/kinderstunde-55/
LOCATION:CVJM Münchberg e.V.\, Marienstraße 13\, 95213 Münchberg\, Deutschland
CATEGORIES:Kinder
END:VEVENT
BEGIN:VEVENT
DTSTART;TZID=Europe/Berlin:20250512T150000
DTEND;TZID=Europe/Berlin:20250512T163000
DTSTAMP:20260420T004233
CREATED:20250211T150731Z
LAST-MODIFIED:20250511T190745Z
UID:10001058-1747062000-1747067400@cvjm-muenchberg.de
SUMMARY:Krabbelgruppe
DESCRIPTION:
URL:https://cvjm-muenchberg.de/event/krabbelgruppe-55/
LOCATION:CVJM Münchberg e.V.\, Marienstraße 13\, 95213 Münchberg\, Deutschland
CATEGORIES:Kinder
END:VEVENT
BEGIN:VEVENT
DTSTART;TZID=Europe/Berlin:20250514T183000
DTEND;TZID=Europe/Berlin:20250514T203000
DTSTAMP:20260420T004233
CREATED:20250213T172239Z
LAST-MODIFIED:20250513T200728Z
UID:10001059-1747247400-1747254600@cvjm-muenchberg.de
SUMMARY:Jugendkreis
DESCRIPTION:
URL:https://cvjm-muenchberg.de/event/jugendkreis-67/
CATEGORIES:Jugend
END:VEVENT
BEGIN:VEVENT
DTSTART;TZID=Europe/Berlin:20250516T190000
DTEND;TZID=Europe/Berlin:20250516T220000
DTSTAMP:20260420T004233
CREATED:20250215T172228Z
LAST-MODIFIED:20250515T202229Z
UID:10001060-1747422000-1747432800@cvjm-muenchberg.de
SUMMARY:Jugendcafé
DESCRIPTION:
URL:https://cvjm-muenchberg.de/event/jugendcafe-67/
CATEGORIES:Jugend
END:VEVENT
BEGIN:VEVENT
DTSTART;TZID=Europe/Berlin:20250517T100000
DTEND;TZID=Europe/Berlin:20250517T170000
DTSTAMP:20260420T004233
CREATED:20250412T203733Z
LAST-MODIFIED:20250516T215239Z
UID:10001100-1747476000-1747501200@cvjm-muenchberg.de
SUMMARY:Pimp my Gh
DESCRIPTION:
URL:https://cvjm-muenchberg.de/event/pimp-my-gh/
END:VEVENT
END:VCALENDAR