BEGIN:VCALENDAR
VERSION:2.0
PRODID:-//CVJM Münchberg e.V. - ECPv6.15.18//NONSGML v1.0//EN
CALSCALE:GREGORIAN
METHOD:PUBLISH
X-ORIGINAL-URL:https://cvjm-muenchberg.de
X-WR-CALDESC:Veranstaltungen für CVJM Münchberg e.V.
REFRESH-INTERVAL;VALUE=DURATION:PT1H
X-Robots-Tag:noindex
X-PUBLISHED-TTL:PT1H
BEGIN:VTIMEZONE
TZID:Europe/Berlin
BEGIN:DAYLIGHT
TZOFFSETFROM:+0100
TZOFFSETTO:+0200
TZNAME:CEST
DTSTART:20240331T010000
END:DAYLIGHT
BEGIN:STANDARD
TZOFFSETFROM:+0200
TZOFFSETTO:+0100
TZNAME:CET
DTSTART:20241027T010000
END:STANDARD
BEGIN:DAYLIGHT
TZOFFSETFROM:+0100
TZOFFSETTO:+0200
TZNAME:CEST
DTSTART:20250330T010000
END:DAYLIGHT
BEGIN:STANDARD
TZOFFSETFROM:+0200
TZOFFSETTO:+0100
TZNAME:CET
DTSTART:20251026T010000
END:STANDARD
BEGIN:DAYLIGHT
TZOFFSETFROM:+0100
TZOFFSETTO:+0200
TZNAME:CEST
DTSTART:20260329T010000
END:DAYLIGHT
BEGIN:STANDARD
TZOFFSETFROM:+0200
TZOFFSETTO:+0100
TZNAME:CET
DTSTART:20261025T010000
END:STANDARD
END:VTIMEZONE
BEGIN:VEVENT
DTSTART;TZID=Europe/Berlin:20250505T150000
DTEND;TZID=Europe/Berlin:20250505T163000
DTSTAMP:20260420T014849
CREATED:20250204T150730Z
LAST-MODIFIED:20250504T183728Z
UID:10001053-1746457200-1746462600@cvjm-muenchberg.de
SUMMARY:Kinderstunde
DESCRIPTION:
URL:https://cvjm-muenchberg.de/event/kinderstunde-54/
LOCATION:CVJM Münchberg e.V.\, Marienstraße 13\, 95213 Münchberg\, Deutschland
CATEGORIES:Kinder
END:VEVENT
BEGIN:VEVENT
DTSTART;TZID=Europe/Berlin:20250505T150000
DTEND;TZID=Europe/Berlin:20250505T163000
DTSTAMP:20260420T014849
CREATED:20250204T150730Z
LAST-MODIFIED:20250504T183729Z
UID:10001054-1746457200-1746462600@cvjm-muenchberg.de
SUMMARY:Krabbelgruppe
DESCRIPTION:
URL:https://cvjm-muenchberg.de/event/krabbelgruppe-54/
LOCATION:CVJM Münchberg e.V.\, Marienstraße 13\, 95213 Münchberg\, Deutschland
CATEGORIES:Kinder
END:VEVENT
BEGIN:VEVENT
DTSTART;TZID=Europe/Berlin:20250507T183000
DTEND;TZID=Europe/Berlin:20250507T203000
DTSTAMP:20260420T014849
CREATED:20250206T170956Z
LAST-MODIFIED:20250506T195240Z
UID:10001055-1746642600-1746649800@cvjm-muenchberg.de
SUMMARY:Jugendkreis mit Schwester Nicole (Christusbruderschaft Selbitz)
DESCRIPTION:
URL:https://cvjm-muenchberg.de/event/jugendkreis-mit-schwester-nicole-christusbruderschaft-selbitz/
CATEGORIES:Jugend
END:VEVENT
BEGIN:VEVENT
DTSTART;TZID=Europe/Berlin:20250509T190000
DTEND;TZID=Europe/Berlin:20250509T220000
DTSTAMP:20260420T014849
CREATED:20250208T172257Z
LAST-MODIFIED:20250508T195242Z
UID:10001056-1746817200-1746828000@cvjm-muenchberg.de
SUMMARY:Jugendcafé
DESCRIPTION:
URL:https://cvjm-muenchberg.de/event/jugendcafe-66/
CATEGORIES:Jugend
END:VEVENT
END:VCALENDAR