BEGIN:VCALENDAR
VERSION:2.0
PRODID:-//CVJM Münchberg e.V. - ECPv6.15.18//NONSGML v1.0//EN
CALSCALE:GREGORIAN
METHOD:PUBLISH
X-WR-CALNAME:CVJM Münchberg e.V.
X-ORIGINAL-URL:https://cvjm-muenchberg.de
X-WR-CALDESC:Veranstaltungen für CVJM Münchberg e.V.
REFRESH-INTERVAL;VALUE=DURATION:PT1H
X-Robots-Tag:noindex
X-PUBLISHED-TTL:PT1H
BEGIN:VTIMEZONE
TZID:Europe/Berlin
BEGIN:DAYLIGHT
TZOFFSETFROM:+0100
TZOFFSETTO:+0200
TZNAME:CEST
DTSTART:20240331T010000
END:DAYLIGHT
BEGIN:STANDARD
TZOFFSETFROM:+0200
TZOFFSETTO:+0100
TZNAME:CET
DTSTART:20241027T010000
END:STANDARD
BEGIN:DAYLIGHT
TZOFFSETFROM:+0100
TZOFFSETTO:+0200
TZNAME:CEST
DTSTART:20250330T010000
END:DAYLIGHT
BEGIN:STANDARD
TZOFFSETFROM:+0200
TZOFFSETTO:+0100
TZNAME:CET
DTSTART:20251026T010000
END:STANDARD
BEGIN:DAYLIGHT
TZOFFSETFROM:+0100
TZOFFSETTO:+0200
TZNAME:CEST
DTSTART:20260329T010000
END:DAYLIGHT
BEGIN:STANDARD
TZOFFSETFROM:+0200
TZOFFSETTO:+0100
TZNAME:CET
DTSTART:20261025T010000
END:STANDARD
END:VTIMEZONE
BEGIN:VEVENT
DTSTART;TZID=Europe/Berlin:20250331T150000
DTEND;TZID=Europe/Berlin:20250331T163000
DTSTAMP:20260420T030632
CREATED:20241231T221807Z
LAST-MODIFIED:20250330T162241Z
UID:10001032-1743433200-1743438600@cvjm-muenchberg.de
SUMMARY:Kinderstunde
DESCRIPTION:
URL:https://cvjm-muenchberg.de/event/kinderstunde-49/
LOCATION:CVJM Münchberg e.V.\, Marienstraße 13\, 95213 Münchberg\, Deutschland
CATEGORIES:Kinder
END:VEVENT
BEGIN:VEVENT
DTSTART;TZID=Europe/Berlin:20250331T150000
DTEND;TZID=Europe/Berlin:20250331T163000
DTSTAMP:20260420T030632
CREATED:20241231T221807Z
LAST-MODIFIED:20250330T162240Z
UID:10001033-1743433200-1743438600@cvjm-muenchberg.de
SUMMARY:Krabbelgruppe
DESCRIPTION:
URL:https://cvjm-muenchberg.de/event/krabbelgruppe-49/
LOCATION:CVJM Münchberg e.V.\, Marienstraße 13\, 95213 Münchberg\, Deutschland
CATEGORIES:Kinder
END:VEVENT
BEGIN:VEVENT
DTSTART;TZID=Europe/Berlin:20250402T183000
DTEND;TZID=Europe/Berlin:20250402T203000
DTSTAMP:20260420T030632
CREATED:20250102T164731Z
LAST-MODIFIED:20250401T190733Z
UID:10001034-1743618600-1743625800@cvjm-muenchberg.de
SUMMARY:Jugendkreis
DESCRIPTION:
URL:https://cvjm-muenchberg.de/event/jugendkreis-62/
CATEGORIES:Jugend
END:VEVENT
BEGIN:VEVENT
DTSTART;TZID=Europe/Berlin:20250404T163000
DTEND;TZID=Europe/Berlin:20250406T100000
DTSTAMP:20260420T030632
CREATED:20250218T183811Z
LAST-MODIFIED:20250405T203806Z
UID:10001063-1743784200-1743933600@cvjm-muenchberg.de
SUMMARY:All Inclusive Freizeit
DESCRIPTION:Altenstein
URL:https://cvjm-muenchberg.de/event/all-inclusive-freizeit-2/
END:VEVENT
BEGIN:VEVENT
DTSTART;TZID=Europe/Berlin:20250404T170000
DTEND;TZID=Europe/Berlin:20250404T190000
DTSTAMP:20260420T030632
CREATED:20250318T160734Z
LAST-MODIFIED:20250404T162257Z
UID:10001080-1743786000-1743793200@cvjm-muenchberg.de
SUMMARY:Jungschar entfällt
DESCRIPTION:
URL:https://cvjm-muenchberg.de/event/jungschar-entfaellt/
CATEGORIES:Kinder
END:VEVENT
BEGIN:VEVENT
DTSTART;TZID=Europe/Berlin:20250404T190000
DTEND;TZID=Europe/Berlin:20250404T220000
DTSTAMP:20260420T030632
CREATED:20250104T164733Z
LAST-MODIFIED:20250404T190735Z
UID:10001035-1743793200-1743804000@cvjm-muenchberg.de
SUMMARY:Jugendcafé
DESCRIPTION:
URL:https://cvjm-muenchberg.de/event/jugendcafe-61/
CATEGORIES:Jugend
END:VEVENT
END:VCALENDAR