BEGIN:VCALENDAR
VERSION:2.0
PRODID:-//CVJM Münchberg e.V. - ECPv6.15.18//NONSGML v1.0//EN
CALSCALE:GREGORIAN
METHOD:PUBLISH
X-WR-CALNAME:CVJM Münchberg e.V.
X-ORIGINAL-URL:https://cvjm-muenchberg.de
X-WR-CALDESC:Veranstaltungen für CVJM Münchberg e.V.
REFRESH-INTERVAL;VALUE=DURATION:PT1H
X-Robots-Tag:noindex
X-PUBLISHED-TTL:PT1H
BEGIN:VTIMEZONE
TZID:Europe/Berlin
BEGIN:DAYLIGHT
TZOFFSETFROM:+0100
TZOFFSETTO:+0200
TZNAME:CEST
DTSTART:20230326T010000
END:DAYLIGHT
BEGIN:STANDARD
TZOFFSETFROM:+0200
TZOFFSETTO:+0100
TZNAME:CET
DTSTART:20231029T010000
END:STANDARD
BEGIN:DAYLIGHT
TZOFFSETFROM:+0100
TZOFFSETTO:+0200
TZNAME:CEST
DTSTART:20240331T010000
END:DAYLIGHT
BEGIN:STANDARD
TZOFFSETFROM:+0200
TZOFFSETTO:+0100
TZNAME:CET
DTSTART:20241027T010000
END:STANDARD
BEGIN:DAYLIGHT
TZOFFSETFROM:+0100
TZOFFSETTO:+0200
TZNAME:CEST
DTSTART:20250330T010000
END:DAYLIGHT
BEGIN:STANDARD
TZOFFSETFROM:+0200
TZOFFSETTO:+0100
TZNAME:CET
DTSTART:20251026T010000
END:STANDARD
END:VTIMEZONE
BEGIN:VEVENT
DTSTART;TZID=Europe/Berlin:20241202T150000
DTEND;TZID=Europe/Berlin:20241202T163000
DTSTAMP:20260419T212549
CREATED:20240903T171216Z
LAST-MODIFIED:20241201T201213Z
UID:10000944-1733151600-1733157000@cvjm-muenchberg.de
SUMMARY:Kinderstunde
DESCRIPTION:
URL:https://cvjm-muenchberg.de/event/kinderstunde-35/
LOCATION:CVJM Münchberg e.V.\, Marienstraße 13\, 95213 Münchberg\, Deutschland
CATEGORIES:Kinder
END:VEVENT
BEGIN:VEVENT
DTSTART;TZID=Europe/Berlin:20241202T150000
DTEND;TZID=Europe/Berlin:20241202T163000
DTSTAMP:20260419T212549
CREATED:20240903T171216Z
LAST-MODIFIED:20241201T201213Z
UID:10000945-1733151600-1733157000@cvjm-muenchberg.de
SUMMARY:Krabbelgruppe
DESCRIPTION:
URL:https://cvjm-muenchberg.de/event/krabbelgruppe-35/
LOCATION:CVJM Münchberg e.V.\, Marienstraße 13\, 95213 Münchberg\, Deutschland
CATEGORIES:Kinder
END:VEVENT
BEGIN:VEVENT
DTSTART;TZID=Europe/Berlin:20241204T183000
DTEND;TZID=Europe/Berlin:20241204T203000
DTSTAMP:20260419T212549
CREATED:20240905T174233Z
LAST-MODIFIED:20241203T221212Z
UID:10000946-1733337000-1733344200@cvjm-muenchberg.de
SUMMARY:Jugendkreis
DESCRIPTION:
URL:https://cvjm-muenchberg.de/event/jugendkreis-45/
CATEGORIES:Jugend
END:VEVENT
BEGIN:VEVENT
DTSTART;TZID=Europe/Berlin:20241206T170000
DTEND;TZID=Europe/Berlin:20241206T190000
DTSTAMP:20260419T212549
CREATED:20241122T194225Z
LAST-MODIFIED:20241205T202713Z
UID:10000999-1733504400-1733511600@cvjm-muenchberg.de
SUMMARY:Jungschar
DESCRIPTION:
URL:https://cvjm-muenchberg.de/event/jungschar-14/
CATEGORIES:Kinder
END:VEVENT
BEGIN:VEVENT
DTSTART;TZID=Europe/Berlin:20241206T180000
DTEND;TZID=Europe/Berlin:20241206T220000
DTSTAMP:20260419T212549
CREATED:20240907T204453Z
LAST-MODIFIED:20241206T144300Z
UID:10000948-1733508000-1733522400@cvjm-muenchberg.de
SUMMARY:Adventsfeier
DESCRIPTION:
URL:https://cvjm-muenchberg.de/event/adventsfeier/
END:VEVENT
BEGIN:VEVENT
DTSTART;TZID=Europe/Berlin:20241206T190000
DTEND;TZID=Europe/Berlin:20241206T220000
DTSTAMP:20260419T212549
CREATED:20240907T175713Z
LAST-MODIFIED:20241205T221224Z
UID:10000947-1733511600-1733522400@cvjm-muenchberg.de
SUMMARY:Jugendcafé
DESCRIPTION:
URL:https://cvjm-muenchberg.de/event/jugendcafe-44/
CATEGORIES:Jugend
END:VEVENT
END:VCALENDAR