BEGIN:VCALENDAR
VERSION:2.0
PRODID:-//CVJM Münchberg e.V. - ECPv6.15.18//NONSGML v1.0//EN
CALSCALE:GREGORIAN
METHOD:PUBLISH
X-WR-CALNAME:CVJM Münchberg e.V.
X-ORIGINAL-URL:https://cvjm-muenchberg.de
X-WR-CALDESC:Veranstaltungen für CVJM Münchberg e.V.
REFRESH-INTERVAL;VALUE=DURATION:PT1H
X-Robots-Tag:noindex
X-PUBLISHED-TTL:PT1H
BEGIN:VTIMEZONE
TZID:Europe/Berlin
BEGIN:DAYLIGHT
TZOFFSETFROM:+0100
TZOFFSETTO:+0200
TZNAME:CEST
DTSTART:20230326T010000
END:DAYLIGHT
BEGIN:STANDARD
TZOFFSETFROM:+0200
TZOFFSETTO:+0100
TZNAME:CET
DTSTART:20231029T010000
END:STANDARD
BEGIN:DAYLIGHT
TZOFFSETFROM:+0100
TZOFFSETTO:+0200
TZNAME:CEST
DTSTART:20240331T010000
END:DAYLIGHT
BEGIN:STANDARD
TZOFFSETFROM:+0200
TZOFFSETTO:+0100
TZNAME:CET
DTSTART:20241027T010000
END:STANDARD
BEGIN:DAYLIGHT
TZOFFSETFROM:+0100
TZOFFSETTO:+0200
TZNAME:CEST
DTSTART:20250330T010000
END:DAYLIGHT
BEGIN:STANDARD
TZOFFSETFROM:+0200
TZOFFSETTO:+0100
TZNAME:CET
DTSTART:20251026T010000
END:STANDARD
END:VTIMEZONE
BEGIN:VEVENT
DTSTART;VALUE=DATE:20241109
DTEND;VALUE=DATE:20241117
DTSTAMP:20260419T152347
CREATED:20240811T195710Z
LAST-MODIFIED:20241116T231212Z
UID:10000930-1731110400-1731801599@cvjm-muenchberg.de
SUMMARY:Jubiläumswoche
DESCRIPTION:
URL:https://cvjm-muenchberg.de/event/jubilaeumswoche/
END:VEVENT
BEGIN:VEVENT
DTSTART;TZID=Europe/Berlin:20241111T150000
DTEND;TZID=Europe/Berlin:20241111T163000
DTSTAMP:20260419T152347
CREATED:20240813T161212Z
LAST-MODIFIED:20241110T192724Z
UID:10000931-1731337200-1731342600@cvjm-muenchberg.de
SUMMARY:Kinderstunde
DESCRIPTION:
URL:https://cvjm-muenchberg.de/event/kinderstunde-32/
LOCATION:CVJM Münchberg e.V.\, Marienstraße 13\, 95213 Münchberg\, Deutschland
CATEGORIES:Kinder
END:VEVENT
BEGIN:VEVENT
DTSTART;TZID=Europe/Berlin:20241111T150000
DTEND;TZID=Europe/Berlin:20241111T163000
DTSTAMP:20260419T152347
CREATED:20240813T161212Z
LAST-MODIFIED:20241110T192725Z
UID:10000932-1731337200-1731342600@cvjm-muenchberg.de
SUMMARY:Krabbelgruppe
DESCRIPTION:
URL:https://cvjm-muenchberg.de/event/krabbelgruppe-32/
LOCATION:CVJM Münchberg e.V.\, Marienstraße 13\, 95213 Münchberg\, Deutschland
CATEGORIES:Kinder
END:VEVENT
BEGIN:VEVENT
DTSTART;TZID=Europe/Berlin:20241113T183000
DTEND;TZID=Europe/Berlin:20241113T203000
DTSTAMP:20260419T152347
CREATED:20240815T164214Z
LAST-MODIFIED:20241112T211213Z
UID:10000933-1731522600-1731529800@cvjm-muenchberg.de
SUMMARY:Jugendkreis
DESCRIPTION:
URL:https://cvjm-muenchberg.de/event/jugendkreis-42/
CATEGORIES:Jugend
END:VEVENT
BEGIN:VEVENT
DTSTART;VALUE=DATE:20241115
DTEND;VALUE=DATE:20241116
DTSTAMP:20260419T152347
CREATED:20241012T175735Z
LAST-MODIFIED:20241115T192719Z
UID:10000971-1731628800-1731715199@cvjm-muenchberg.de
SUMMARY:Keine Jungschar - aber schaut gerne beim Jubiläumsprogramm vorbei
DESCRIPTION:
URL:https://cvjm-muenchberg.de/event/keine-jungschar-aber-schaut-gerne-beim-jubilaeumsprogramm-vorbei/
CATEGORIES:Kinder
END:VEVENT
BEGIN:VEVENT
DTSTART;TZID=Europe/Berlin:20241115T190000
DTEND;TZID=Europe/Berlin:20241115T220000
DTSTAMP:20260419T152347
CREATED:20240817T164211Z
LAST-MODIFIED:20241114T211522Z
UID:10000934-1731697200-1731708000@cvjm-muenchberg.de
SUMMARY:Jugendcafé
DESCRIPTION:
URL:https://cvjm-muenchberg.de/event/jugendcafe-41/
CATEGORIES:Jugend
END:VEVENT
BEGIN:VEVENT
DTSTART;TZID=Europe/Berlin:20241116T093000
DTEND;TZID=Europe/Berlin:20241116T140000
DTSTAMP:20260419T152347
CREATED:20241022T225733Z
LAST-MODIFIED:20241115T231228Z
UID:10000979-1731749400-1731765600@cvjm-muenchberg.de
SUMMARY:Mädelsbrunch mit Adventskranzbinden und Kleidertausch
DESCRIPTION:
URL:https://cvjm-muenchberg.de/event/maedelsbrunch-mit-adventskranzbinden-und-kleidertausch/
END:VEVENT
END:VCALENDAR