BEGIN:VCALENDAR
VERSION:2.0
PRODID:-//CVJM Münchberg e.V. - ECPv6.15.18//NONSGML v1.0//EN
CALSCALE:GREGORIAN
METHOD:PUBLISH
X-ORIGINAL-URL:https://cvjm-muenchberg.de
X-WR-CALDESC:Veranstaltungen für CVJM Münchberg e.V.
REFRESH-INTERVAL;VALUE=DURATION:PT1H
X-Robots-Tag:noindex
X-PUBLISHED-TTL:PT1H
BEGIN:VTIMEZONE
TZID:Europe/Berlin
BEGIN:DAYLIGHT
TZOFFSETFROM:+0100
TZOFFSETTO:+0200
TZNAME:CEST
DTSTART:20230326T010000
END:DAYLIGHT
BEGIN:STANDARD
TZOFFSETFROM:+0200
TZOFFSETTO:+0100
TZNAME:CET
DTSTART:20231029T010000
END:STANDARD
BEGIN:DAYLIGHT
TZOFFSETFROM:+0100
TZOFFSETTO:+0200
TZNAME:CEST
DTSTART:20240331T010000
END:DAYLIGHT
BEGIN:STANDARD
TZOFFSETFROM:+0200
TZOFFSETTO:+0100
TZNAME:CET
DTSTART:20241027T010000
END:STANDARD
BEGIN:DAYLIGHT
TZOFFSETFROM:+0100
TZOFFSETTO:+0200
TZNAME:CEST
DTSTART:20250330T010000
END:DAYLIGHT
BEGIN:STANDARD
TZOFFSETFROM:+0200
TZOFFSETTO:+0100
TZNAME:CET
DTSTART:20251026T010000
END:STANDARD
END:VTIMEZONE
BEGIN:VEVENT
DTSTART;TZID=Europe/Berlin:20240429T150000
DTEND;TZID=Europe/Berlin:20240429T163000
DTSTAMP:20260425T172945
CREATED:20240130T224327Z
LAST-MODIFIED:20240429T134233Z
UID:10000784-1714402800-1714408200@cvjm-muenchberg.de
SUMMARY:Krabbelgruppe
DESCRIPTION:
URL:https://cvjm-muenchberg.de/event/krabbelgruppe-14/
LOCATION:CVJM Münchberg e.V.\, Marienstraße 13\, 95213 Münchberg\, Deutschland
CATEGORIES:Kinder
END:VEVENT
BEGIN:VEVENT
DTSTART;TZID=Europe/Berlin:20240429T150000
DTEND;TZID=Europe/Berlin:20240429T163000
DTSTAMP:20260425T172945
CREATED:20240130T224327Z
LAST-MODIFIED:20240429T134232Z
UID:10000785-1714402800-1714408200@cvjm-muenchberg.de
SUMMARY:Kinderstunde
DESCRIPTION:
URL:https://cvjm-muenchberg.de/event/kinderstunde-14/
LOCATION:CVJM Münchberg e.V.\, Marienstraße 13\, 95213 Münchberg\, Deutschland
CATEGORIES:Kinder
END:VEVENT
BEGIN:VEVENT
DTSTART;TZID=Europe/Berlin:20240501T183000
DTEND;TZID=Europe/Berlin:20240501T203000
DTSTAMP:20260425T172945
CREATED:20240201T222720Z
LAST-MODIFIED:20240430T192711Z
UID:10000786-1714588200-1714595400@cvjm-muenchberg.de
SUMMARY:Jugendkreis
DESCRIPTION:
URL:https://cvjm-muenchberg.de/event/jugendkreis-14/
CATEGORIES:Jugend
END:VEVENT
BEGIN:VEVENT
DTSTART;VALUE=DATE:20240503
DTEND;VALUE=DATE:20240506
DTSTAMP:20260425T172945
CREATED:20240203T214427Z
LAST-MODIFIED:20240415T032726Z
UID:10000790-1714694400-1714953599@cvjm-muenchberg.de
SUMMARY:JEM Altenclubfreizeit
DESCRIPTION:
URL:https://cvjm-muenchberg.de/event/jem-altenclubfreizeit/
CATEGORIES:Junge Erwachsene
END:VEVENT
BEGIN:VEVENT
DTSTART;TZID=Europe/Berlin:20240503T170000
DTEND;TZID=Europe/Berlin:20240503T190000
DTSTAMP:20260425T172945
CREATED:20240326T121213Z
LAST-MODIFIED:20240503T134339Z
UID:10000833-1714755600-1714762800@cvjm-muenchberg.de
SUMMARY:Jungschar - Fahrradtour (bitte warm und wetterfest anziehen und Fahrradhelm nicht vergessen)
DESCRIPTION:
URL:https://cvjm-muenchberg.de/event/jungschar-7/
CATEGORIES:Kinder
END:VEVENT
BEGIN:VEVENT
DTSTART;TZID=Europe/Berlin:20240503T190000
DTEND;TZID=Europe/Berlin:20240503T220000
DTSTAMP:20260425T172945
CREATED:20240203T222735Z
LAST-MODIFIED:20240503T194337Z
UID:10000791-1714762800-1714773600@cvjm-muenchberg.de
SUMMARY:Jugendcafé
DESCRIPTION:
URL:https://cvjm-muenchberg.de/event/jugendcafe-13/
CATEGORIES:Jugend
END:VEVENT
BEGIN:VEVENT
DTSTART;TZID=Europe/Berlin:20240504T090000
DTEND;TZID=Europe/Berlin:20240504T220000
DTSTAMP:20260425T172945
CREATED:20240416T032911Z
LAST-MODIFIED:20240504T035713Z
UID:10000853-1714813200-1714860000@cvjm-muenchberg.de
SUMMARY:JEM Altenclubtag
DESCRIPTION:
URL:https://cvjm-muenchberg.de/event/jem-altenclubtag/
CATEGORIES:Junge Erwachsene
END:VEVENT
END:VCALENDAR