BEGIN:VCALENDAR
VERSION:2.0
PRODID:-//CVJM Münchberg e.V. - ECPv6.15.18//NONSGML v1.0//EN
CALSCALE:GREGORIAN
METHOD:PUBLISH
X-WR-CALNAME:CVJM Münchberg e.V.
X-ORIGINAL-URL:https://cvjm-muenchberg.de
X-WR-CALDESC:Veranstaltungen für CVJM Münchberg e.V.
REFRESH-INTERVAL;VALUE=DURATION:PT1H
X-Robots-Tag:noindex
X-PUBLISHED-TTL:PT1H
BEGIN:VTIMEZONE
TZID:Europe/Berlin
BEGIN:DAYLIGHT
TZOFFSETFROM:+0100
TZOFFSETTO:+0200
TZNAME:CEST
DTSTART:20230326T010000
END:DAYLIGHT
BEGIN:STANDARD
TZOFFSETFROM:+0200
TZOFFSETTO:+0100
TZNAME:CET
DTSTART:20231029T010000
END:STANDARD
BEGIN:DAYLIGHT
TZOFFSETFROM:+0100
TZOFFSETTO:+0200
TZNAME:CEST
DTSTART:20240331T010000
END:DAYLIGHT
BEGIN:STANDARD
TZOFFSETFROM:+0200
TZOFFSETTO:+0100
TZNAME:CET
DTSTART:20241027T010000
END:STANDARD
BEGIN:DAYLIGHT
TZOFFSETFROM:+0100
TZOFFSETTO:+0200
TZNAME:CEST
DTSTART:20250330T010000
END:DAYLIGHT
BEGIN:STANDARD
TZOFFSETFROM:+0200
TZOFFSETTO:+0100
TZNAME:CET
DTSTART:20251026T010000
END:STANDARD
END:VTIMEZONE
BEGIN:VEVENT
DTSTART;TZID=Europe/Berlin:20240422T150000
DTEND;TZID=Europe/Berlin:20240422T163000
DTSTAMP:20260425T192028
CREATED:20240124T211138Z
LAST-MODIFIED:20240422T134401Z
UID:10000746-1713798000-1713803400@cvjm-muenchberg.de
SUMMARY:Krabbelgruppe
DESCRIPTION:
URL:https://cvjm-muenchberg.de/event/krabbelgruppe-13/
LOCATION:CVJM Münchberg e.V.\, Marienstraße 13\, 95213 Münchberg\, Deutschland
CATEGORIES:Kinder
END:VEVENT
BEGIN:VEVENT
DTSTART;TZID=Europe/Berlin:20240422T150000
DTEND;TZID=Europe/Berlin:20240422T163000
DTSTAMP:20260425T192028
CREATED:20240124T211138Z
LAST-MODIFIED:20240422T134401Z
UID:10000747-1713798000-1713803400@cvjm-muenchberg.de
SUMMARY:Kinderstunde
DESCRIPTION:
URL:https://cvjm-muenchberg.de/event/kinderstunde-13/
LOCATION:CVJM Münchberg e.V.\, Marienstraße 13\, 95213 Münchberg\, Deutschland
CATEGORIES:Kinder
END:VEVENT
BEGIN:VEVENT
DTSTART;TZID=Europe/Berlin:20240423T200000
DTEND;TZID=Europe/Berlin:20240423T210000
DTSTAMP:20260425T192028
CREATED:20240126T221233Z
LAST-MODIFIED:20240319T152718Z
UID:10000768-1713902400-1713906000@cvjm-muenchberg.de
SUMMARY:Wohnzimmer-Worship
DESCRIPTION:
URL:https://cvjm-muenchberg.de/event/wohnzimmer-worship-4/
END:VEVENT
BEGIN:VEVENT
DTSTART;TZID=Europe/Berlin:20240424T183000
DTEND;TZID=Europe/Berlin:20240424T203000
DTSTAMP:20260425T192028
CREATED:20240125T211415Z
LAST-MODIFIED:20240423T185811Z
UID:10000758-1713983400-1713990600@cvjm-muenchberg.de
SUMMARY:Jugendkreis
DESCRIPTION:
URL:https://cvjm-muenchberg.de/event/jugendkreis-13/
CATEGORIES:Jugend
END:VEVENT
BEGIN:VEVENT
DTSTART;TZID=Europe/Berlin:20240426T170000
DTEND;TZID=Europe/Berlin:20240426T190000
DTSTAMP:20260425T192028
CREATED:20240326T121213Z
LAST-MODIFIED:20240426T134242Z
UID:10000832-1714150800-1714158000@cvjm-muenchberg.de
SUMMARY:Jungschar - Indoorspiele (Fahrradtour verschoben auf 03.05.)
DESCRIPTION:
URL:https://cvjm-muenchberg.de/event/jungschar-6/
CATEGORIES:Kinder
END:VEVENT
BEGIN:VEVENT
DTSTART;TZID=Europe/Berlin:20240426T190000
DTEND;TZID=Europe/Berlin:20240426T220000
DTSTAMP:20260425T192028
CREATED:20240129T215726Z
LAST-MODIFIED:20240426T192714Z
UID:10000782-1714158000-1714168800@cvjm-muenchberg.de
SUMMARY:Jugendcafé
DESCRIPTION:
URL:https://cvjm-muenchberg.de/event/jugendcafe-12/
CATEGORIES:Jugend
END:VEVENT
END:VCALENDAR