BEGIN:VCALENDAR
VERSION:2.0
PRODID:-//CVJM Münchberg e.V. - ECPv6.15.18//NONSGML v1.0//EN
CALSCALE:GREGORIAN
METHOD:PUBLISH
X-WR-CALNAME:CVJM Münchberg e.V.
X-ORIGINAL-URL:https://cvjm-muenchberg.de
X-WR-CALDESC:Veranstaltungen für CVJM Münchberg e.V.
REFRESH-INTERVAL;VALUE=DURATION:PT1H
X-Robots-Tag:noindex
X-PUBLISHED-TTL:PT1H
BEGIN:VTIMEZONE
TZID:Europe/Berlin
BEGIN:DAYLIGHT
TZOFFSETFROM:+0100
TZOFFSETTO:+0200
TZNAME:CEST
DTSTART:20250330T010000
END:DAYLIGHT
BEGIN:STANDARD
TZOFFSETFROM:+0200
TZOFFSETTO:+0100
TZNAME:CET
DTSTART:20251026T010000
END:STANDARD
BEGIN:DAYLIGHT
TZOFFSETFROM:+0100
TZOFFSETTO:+0200
TZNAME:CEST
DTSTART:20260329T010000
END:DAYLIGHT
BEGIN:STANDARD
TZOFFSETFROM:+0200
TZOFFSETTO:+0100
TZNAME:CET
DTSTART:20261025T010000
END:STANDARD
BEGIN:DAYLIGHT
TZOFFSETFROM:+0100
TZOFFSETTO:+0200
TZNAME:CEST
DTSTART:20270328T010000
END:DAYLIGHT
BEGIN:STANDARD
TZOFFSETFROM:+0200
TZOFFSETTO:+0100
TZNAME:CET
DTSTART:20271031T010000
END:STANDARD
END:VTIMEZONE
BEGIN:VEVENT
DTSTART;TZID=Europe/Berlin:20260501T170000
DTEND;TZID=Europe/Berlin:20260501T190000
DTSTAMP:20260423T104147
CREATED:20260131T221321Z
LAST-MODIFIED:20260329T105821Z
UID:10001305-1777654800-1777662000@cvjm-muenchberg.de
SUMMARY:Feiertag - keine Jungschar
DESCRIPTION:
URL:https://cvjm-muenchberg.de/event/feiertag-keine-jungschar/
CATEGORIES:Kinder
END:VEVENT
BEGIN:VEVENT
DTSTART;TZID=Europe/Berlin:20260501T190000
DTEND;TZID=Europe/Berlin:20260501T220000
DTSTAMP:20260423T104147
CREATED:20260131T205820Z
LAST-MODIFIED:20260422T175815Z
UID:10001304-1777662000-1777672800@cvjm-muenchberg.de
SUMMARY:Jugendcafé
DESCRIPTION:
URL:https://cvjm-muenchberg.de/event/jugendcafe-117/
CATEGORIES:Jugend
END:VEVENT
BEGIN:VEVENT
DTSTART;TZID=Europe/Berlin:20260504T150000
DTEND;TZID=Europe/Berlin:20260504T163000
DTSTAMP:20260423T104147
CREATED:20260203T221319Z
LAST-MODIFIED:20260329T105822Z
UID:10001307-1777906800-1777912200@cvjm-muenchberg.de
SUMMARY:Kinderstunde
DESCRIPTION:
URL:https://cvjm-muenchberg.de/event/kinderstunde-106/
LOCATION:CVJM Münchberg e.V.\, Marienstraße 13\, 95213 Münchberg\, Deutschland
CATEGORIES:Kinder
END:VEVENT
BEGIN:VEVENT
DTSTART;TZID=Europe/Berlin:20260504T150000
DTEND;TZID=Europe/Berlin:20260504T163000
DTSTAMP:20260423T104147
CREATED:20260203T221319Z
LAST-MODIFIED:20260329T105821Z
UID:10001306-1777906800-1777912200@cvjm-muenchberg.de
SUMMARY:Krabbelgruppe
DESCRIPTION:
URL:https://cvjm-muenchberg.de/event/krabbelgruppe-106/
LOCATION:CVJM Münchberg e.V.\, Marienstraße 13\, 95213 Münchberg\, Deutschland
CATEGORIES:Kinder
END:VEVENT
BEGIN:VEVENT
DTSTART;TZID=Europe/Berlin:20260506T183000
DTEND;TZID=Europe/Berlin:20260506T203000
DTSTAMP:20260423T104147
CREATED:20260205T205821Z
LAST-MODIFIED:20260422T175815Z
UID:10001308-1778092200-1778099400@cvjm-muenchberg.de
SUMMARY:Jugendkreis
DESCRIPTION:
URL:https://cvjm-muenchberg.de/event/jugendkreis-117/
CATEGORIES:Jugend
END:VEVENT
BEGIN:VEVENT
DTSTART;TZID=Europe/Berlin:20260508T170000
DTEND;TZID=Europe/Berlin:20260508T190000
DTSTAMP:20260423T104147
CREATED:20260207T221332Z
LAST-MODIFIED:20260329T105822Z
UID:10001310-1778259600-1778266800@cvjm-muenchberg.de
SUMMARY:Jungschar
DESCRIPTION:
URL:https://cvjm-muenchberg.de/event/jungschar-42/
CATEGORIES:Kinder
END:VEVENT
BEGIN:VEVENT
DTSTART;TZID=Europe/Berlin:20260508T190000
DTEND;TZID=Europe/Berlin:20260508T220000
DTSTAMP:20260423T104147
CREATED:20260207T205822Z
LAST-MODIFIED:20260422T175815Z
UID:10001309-1778266800-1778277600@cvjm-muenchberg.de
SUMMARY:Jugendcafé
DESCRIPTION:
URL:https://cvjm-muenchberg.de/event/jugendcafe-118/
CATEGORIES:Jugend
END:VEVENT
BEGIN:VEVENT
DTSTART;TZID=Europe/Berlin:20260511T150000
DTEND;TZID=Europe/Berlin:20260511T163000
DTSTAMP:20260423T104147
CREATED:20260210T222901Z
LAST-MODIFIED:20260329T105822Z
UID:10001311-1778511600-1778517000@cvjm-muenchberg.de
SUMMARY:Krabbelgruppe
DESCRIPTION:
URL:https://cvjm-muenchberg.de/event/krabbelgruppe-107/
LOCATION:CVJM Münchberg e.V.\, Marienstraße 13\, 95213 Münchberg\, Deutschland
CATEGORIES:Kinder
END:VEVENT
BEGIN:VEVENT
DTSTART;TZID=Europe/Berlin:20260511T150000
DTEND;TZID=Europe/Berlin:20260511T163000
DTSTAMP:20260423T104147
CREATED:20260210T222901Z
LAST-MODIFIED:20260329T105822Z
UID:10001312-1778511600-1778517000@cvjm-muenchberg.de
SUMMARY:Kinderstunde
DESCRIPTION:
URL:https://cvjm-muenchberg.de/event/kinderstunde-107/
LOCATION:CVJM Münchberg e.V.\, Marienstraße 13\, 95213 Münchberg\, Deutschland
CATEGORIES:Kinder
END:VEVENT
BEGIN:VEVENT
DTSTART;TZID=Europe/Berlin:20260513T183000
DTEND;TZID=Europe/Berlin:20260513T203000
DTSTAMP:20260423T104147
CREATED:20260212T211318Z
LAST-MODIFIED:20260422T175815Z
UID:10001313-1778697000-1778704200@cvjm-muenchberg.de
SUMMARY:Jugendkreis
DESCRIPTION:
URL:https://cvjm-muenchberg.de/event/jugendkreis-118/
CATEGORIES:Jugend
END:VEVENT
BEGIN:VEVENT
DTSTART;TZID=Europe/Berlin:20260515T170000
DTEND;TZID=Europe/Berlin:20260515T190000
DTSTAMP:20260423T104147
CREATED:20260214T225820Z
LAST-MODIFIED:20260329T105822Z
UID:10001315-1778864400-1778871600@cvjm-muenchberg.de
SUMMARY:Jungschar
DESCRIPTION:
URL:https://cvjm-muenchberg.de/event/jungschar-43/
CATEGORIES:Kinder
END:VEVENT
BEGIN:VEVENT
DTSTART;TZID=Europe/Berlin:20260515T190000
DTEND;TZID=Europe/Berlin:20260515T220000
DTSTAMP:20260423T104147
CREATED:20260214T211331Z
LAST-MODIFIED:20260422T175815Z
UID:10001314-1778871600-1778882400@cvjm-muenchberg.de
SUMMARY:Jugendcafé
DESCRIPTION:
URL:https://cvjm-muenchberg.de/event/jugendcafe-119/
CATEGORIES:Jugend
END:VEVENT
BEGIN:VEVENT
DTSTART;TZID=Europe/Berlin:20260517T190000
DTEND;TZID=Europe/Berlin:20260517T213000
DTSTAMP:20260423T104147
CREATED:20260323T142820Z
LAST-MODIFIED:20260422T152818Z
UID:10001347-1779044400-1779053400@cvjm-muenchberg.de
SUMMARY:Lobpreisabend
DESCRIPTION:
URL:https://cvjm-muenchberg.de/event/lobpreisabend-4/
END:VEVENT
BEGIN:VEVENT
DTSTART;TZID=Europe/Berlin:20260518T150000
DTEND;TZID=Europe/Berlin:20260518T163000
DTSTAMP:20260423T104147
CREATED:20260217T225818Z
LAST-MODIFIED:20260329T105822Z
UID:10001316-1779116400-1779121800@cvjm-muenchberg.de
SUMMARY:Kinderstunde
DESCRIPTION:
URL:https://cvjm-muenchberg.de/event/kinderstunde-108/
LOCATION:CVJM Münchberg e.V.\, Marienstraße 13\, 95213 Münchberg\, Deutschland
CATEGORIES:Kinder
END:VEVENT
BEGIN:VEVENT
DTSTART;TZID=Europe/Berlin:20260518T150000
DTEND;TZID=Europe/Berlin:20260518T163000
DTSTAMP:20260423T104147
CREATED:20260217T225818Z
LAST-MODIFIED:20260329T105822Z
UID:10001317-1779116400-1779121800@cvjm-muenchberg.de
SUMMARY:Krabbelgruppe
DESCRIPTION:
URL:https://cvjm-muenchberg.de/event/krabbelgruppe-108/
LOCATION:CVJM Münchberg e.V.\, Marienstraße 13\, 95213 Münchberg\, Deutschland
CATEGORIES:Kinder
END:VEVENT
BEGIN:VEVENT
DTSTART;TZID=Europe/Berlin:20260520T183000
DTEND;TZID=Europe/Berlin:20260520T203000
DTSTAMP:20260423T104147
CREATED:20260219T211320Z
LAST-MODIFIED:20260422T175815Z
UID:10001318-1779301800-1779309000@cvjm-muenchberg.de
SUMMARY:Jugendkreis
DESCRIPTION:
URL:https://cvjm-muenchberg.de/event/jugendkreis-119/
CATEGORIES:Jugend
END:VEVENT
BEGIN:VEVENT
DTSTART;TZID=Europe/Berlin:20260522T170000
DTEND;TZID=Europe/Berlin:20260522T190000
DTSTAMP:20260423T104147
CREATED:20260221T225821Z
LAST-MODIFIED:20260329T105822Z
UID:10001320-1779469200-1779476400@cvjm-muenchberg.de
SUMMARY:Jungschar
DESCRIPTION:
URL:https://cvjm-muenchberg.de/event/jungschar-44/
CATEGORIES:Kinder
END:VEVENT
BEGIN:VEVENT
DTSTART;TZID=Europe/Berlin:20260522T190000
DTEND;TZID=Europe/Berlin:20260522T220000
DTSTAMP:20260423T104147
CREATED:20260221T211319Z
LAST-MODIFIED:20260422T175815Z
UID:10001319-1779476400-1779487200@cvjm-muenchberg.de
SUMMARY:Jugendcafé
DESCRIPTION:
URL:https://cvjm-muenchberg.de/event/jugendcafe-120/
CATEGORIES:Jugend
END:VEVENT
BEGIN:VEVENT
DTSTART;TZID=Europe/Berlin:20260525T150000
DTEND;TZID=Europe/Berlin:20260525T163000
DTSTAMP:20260423T104147
CREATED:20260224T225819Z
LAST-MODIFIED:20260329T105822Z
UID:10001321-1779721200-1779726600@cvjm-muenchberg.de
SUMMARY:Kinderstunde
DESCRIPTION:
URL:https://cvjm-muenchberg.de/event/kinderstunde-109/
LOCATION:CVJM Münchberg e.V.\, Marienstraße 13\, 95213 Münchberg\, Deutschland
CATEGORIES:Kinder
END:VEVENT
BEGIN:VEVENT
DTSTART;TZID=Europe/Berlin:20260525T150000
DTEND;TZID=Europe/Berlin:20260525T163000
DTSTAMP:20260423T104147
CREATED:20260224T225820Z
LAST-MODIFIED:20260329T105822Z
UID:10001322-1779721200-1779726600@cvjm-muenchberg.de
SUMMARY:Krabbelgruppe
DESCRIPTION:
URL:https://cvjm-muenchberg.de/event/krabbelgruppe-109/
LOCATION:CVJM Münchberg e.V.\, Marienstraße 13\, 95213 Münchberg\, Deutschland
CATEGORIES:Kinder
END:VEVENT
BEGIN:VEVENT
DTSTART;TZID=Europe/Berlin:20260527T183000
DTEND;TZID=Europe/Berlin:20260527T203000
DTSTAMP:20260423T104147
CREATED:20260226T214324Z
LAST-MODIFIED:20260422T175816Z
UID:10001323-1779906600-1779913800@cvjm-muenchberg.de
SUMMARY:Jugendkreis
DESCRIPTION:
URL:https://cvjm-muenchberg.de/event/jugendkreis-120/
CATEGORIES:Jugend
END:VEVENT
BEGIN:VEVENT
DTSTART;TZID=Europe/Berlin:20260529T170000
DTEND;TZID=Europe/Berlin:20260529T190000
DTSTAMP:20260423T104147
CREATED:20260228T225819Z
LAST-MODIFIED:20260329T105822Z
UID:10001325-1780074000-1780081200@cvjm-muenchberg.de
SUMMARY:Ferien - keine Jungschar
DESCRIPTION:
URL:https://cvjm-muenchberg.de/event/ferien-keine-jungschar-25/
CATEGORIES:Kinder
END:VEVENT
BEGIN:VEVENT
DTSTART;TZID=Europe/Berlin:20260529T190000
DTEND;TZID=Europe/Berlin:20260529T220000
DTSTAMP:20260423T104147
CREATED:20260228T214320Z
LAST-MODIFIED:20260422T175816Z
UID:10001324-1780081200-1780092000@cvjm-muenchberg.de
SUMMARY:Jugendcafé
DESCRIPTION:
URL:https://cvjm-muenchberg.de/event/jugendcafe-121/
CATEGORIES:Jugend
END:VEVENT
END:VCALENDAR