BEGIN:VCALENDAR
VERSION:2.0
PRODID:-//CVJM Münchberg e.V. - ECPv6.15.18//NONSGML v1.0//EN
CALSCALE:GREGORIAN
METHOD:PUBLISH
X-ORIGINAL-URL:https://cvjm-muenchberg.de
X-WR-CALDESC:Veranstaltungen für CVJM Münchberg e.V.
REFRESH-INTERVAL;VALUE=DURATION:PT1H
X-Robots-Tag:noindex
X-PUBLISHED-TTL:PT1H
BEGIN:VTIMEZONE
TZID:Europe/Berlin
BEGIN:DAYLIGHT
TZOFFSETFROM:+0100
TZOFFSETTO:+0200
TZNAME:CEST
DTSTART:20240331T010000
END:DAYLIGHT
BEGIN:STANDARD
TZOFFSETFROM:+0200
TZOFFSETTO:+0100
TZNAME:CET
DTSTART:20241027T010000
END:STANDARD
BEGIN:DAYLIGHT
TZOFFSETFROM:+0100
TZOFFSETTO:+0200
TZNAME:CEST
DTSTART:20250330T010000
END:DAYLIGHT
BEGIN:STANDARD
TZOFFSETFROM:+0200
TZOFFSETTO:+0100
TZNAME:CET
DTSTART:20251026T010000
END:STANDARD
BEGIN:DAYLIGHT
TZOFFSETFROM:+0100
TZOFFSETTO:+0200
TZNAME:CEST
DTSTART:20260329T010000
END:DAYLIGHT
BEGIN:STANDARD
TZOFFSETFROM:+0200
TZOFFSETTO:+0100
TZNAME:CET
DTSTART:20261025T010000
END:STANDARD
END:VTIMEZONE
BEGIN:VEVENT
DTSTART;TZID=Europe/Berlin:20250101T183000
DTEND;TZID=Europe/Berlin:20250101T203000
DTSTAMP:20260420T030102
CREATED:20241003T182712Z
LAST-MODIFIED:20250101T164732Z
UID:10000964-1735756200-1735763400@cvjm-muenchberg.de
SUMMARY:Jugendkreis
DESCRIPTION:
URL:https://cvjm-muenchberg.de/event/jugendkreis-49/
CATEGORIES:Jugend
END:VEVENT
BEGIN:VEVENT
DTSTART;TZID=Europe/Berlin:20250103T170000
DTEND;TZID=Europe/Berlin:20250103T190000
DTSTAMP:20260420T030102
CREATED:20241220T215011Z
LAST-MODIFIED:20250102T221730Z
UID:10001022-1735923600-1735930800@cvjm-muenchberg.de
SUMMARY:Ferien - keine Jungschar
DESCRIPTION:
URL:https://cvjm-muenchberg.de/event/ferien-keine-jungschar-18/
CATEGORIES:Kinder
END:VEVENT
BEGIN:VEVENT
DTSTART;TZID=Europe/Berlin:20250103T190000
DTEND;TZID=Europe/Berlin:20250103T220000
DTSTAMP:20260420T030102
CREATED:20241005T184332Z
LAST-MODIFIED:20250103T164728Z
UID:10000965-1735930800-1735941600@cvjm-muenchberg.de
SUMMARY:Jugendcafé
DESCRIPTION:
URL:https://cvjm-muenchberg.de/event/jugendcafe-48/
CATEGORIES:Jugend
END:VEVENT
BEGIN:VEVENT
DTSTART;TZID=Europe/Berlin:20250108T183000
DTEND;TZID=Europe/Berlin:20250108T203000
DTSTAMP:20260420T030102
CREATED:20241010T184236Z
LAST-MODIFIED:20250108T171732Z
UID:10000966-1736361000-1736368200@cvjm-muenchberg.de
SUMMARY:Jugendkreis
DESCRIPTION:
URL:https://cvjm-muenchberg.de/event/jugendkreis-50/
CATEGORIES:Jugend
END:VEVENT
BEGIN:VEVENT
DTSTART;TZID=Europe/Berlin:20250110T170000
DTEND;TZID=Europe/Berlin:20250110T190000
DTSTAMP:20260420T030102
CREATED:20241220T215011Z
LAST-MODIFIED:20250109T221730Z
UID:10001023-1736528400-1736535600@cvjm-muenchberg.de
SUMMARY:Jungschar
DESCRIPTION:
URL:https://cvjm-muenchberg.de/event/jungschar-17/
CATEGORIES:Kinder
END:VEVENT
BEGIN:VEVENT
DTSTART;TZID=Europe/Berlin:20250110T190000
DTEND;TZID=Europe/Berlin:20250110T220000
DTSTAMP:20260420T030102
CREATED:20241012T185716Z
LAST-MODIFIED:20250110T171847Z
UID:10000972-1736535600-1736546400@cvjm-muenchberg.de
SUMMARY:Jugendcafé
DESCRIPTION:
URL:https://cvjm-muenchberg.de/event/jugendcafe-49/
CATEGORIES:Jugend
END:VEVENT
BEGIN:VEVENT
DTSTART;TZID=Europe/Berlin:20250113T150000
DTEND;TZID=Europe/Berlin:20250113T163000
DTSTAMP:20260420T030102
CREATED:20241015T180024Z
LAST-MODIFIED:20250112T221730Z
UID:10000973-1736780400-1736785800@cvjm-muenchberg.de
SUMMARY:Kinderstunde
DESCRIPTION:
URL:https://cvjm-muenchberg.de/event/kinderstunde-38/
LOCATION:CVJM Münchberg e.V.\, Marienstraße 13\, 95213 Münchberg\, Deutschland
CATEGORIES:Kinder
END:VEVENT
BEGIN:VEVENT
DTSTART;TZID=Europe/Berlin:20250113T150000
DTEND;TZID=Europe/Berlin:20250113T163000
DTSTAMP:20260420T030102
CREATED:20241015T180025Z
LAST-MODIFIED:20250112T221730Z
UID:10000974-1736780400-1736785800@cvjm-muenchberg.de
SUMMARY:Krabbelgruppe
DESCRIPTION:
URL:https://cvjm-muenchberg.de/event/krabbelgruppe-38/
LOCATION:CVJM Münchberg e.V.\, Marienstraße 13\, 95213 Münchberg\, Deutschland
CATEGORIES:Kinder
END:VEVENT
BEGIN:VEVENT
DTSTART;TZID=Europe/Berlin:20250115T183000
DTEND;TZID=Europe/Berlin:20250115T203000
DTSTAMP:20260420T030102
CREATED:20241017T192721Z
LAST-MODIFIED:20250115T120232Z
UID:10000975-1736965800-1736973000@cvjm-muenchberg.de
SUMMARY:Jugendkreis
DESCRIPTION:
URL:https://cvjm-muenchberg.de/event/jugendkreis-51/
CATEGORIES:Jugend
END:VEVENT
BEGIN:VEVENT
DTSTART;TZID=Europe/Berlin:20250117T170000
DTEND;TZID=Europe/Berlin:20250117T190000
DTSTAMP:20260420T030102
CREATED:20241220T215012Z
LAST-MODIFIED:20250117T141736Z
UID:10001024-1737133200-1737140400@cvjm-muenchberg.de
SUMMARY:Jungschar
DESCRIPTION:
URL:https://cvjm-muenchberg.de/event/jungschar-18/
CATEGORIES:Kinder
END:VEVENT
BEGIN:VEVENT
DTSTART;TZID=Europe/Berlin:20250117T190000
DTEND;TZID=Europe/Berlin:20250117T220000
DTSTAMP:20260420T030102
CREATED:20241019T192713Z
LAST-MODIFIED:20250117T163250Z
UID:10000976-1737140400-1737151200@cvjm-muenchberg.de
SUMMARY:Jugendcafé
DESCRIPTION:
URL:https://cvjm-muenchberg.de/event/jugendcafe-50/
CATEGORIES:Jugend
END:VEVENT
BEGIN:VEVENT
DTSTART;TZID=Europe/Berlin:20250120T150000
DTEND;TZID=Europe/Berlin:20250120T163000
DTSTAMP:20260420T030102
CREATED:20241022T182725Z
LAST-MODIFIED:20250120T142100Z
UID:10000977-1737385200-1737390600@cvjm-muenchberg.de
SUMMARY:Kinderstunde
DESCRIPTION:
URL:https://cvjm-muenchberg.de/event/kinderstunde-39/
LOCATION:CVJM Münchberg e.V.\, Marienstraße 13\, 95213 Münchberg\, Deutschland
CATEGORIES:Kinder
END:VEVENT
BEGIN:VEVENT
DTSTART;TZID=Europe/Berlin:20250120T150000
DTEND;TZID=Europe/Berlin:20250120T163000
DTSTAMP:20260420T030102
CREATED:20241022T182725Z
LAST-MODIFIED:20250120T142102Z
UID:10000978-1737385200-1737390600@cvjm-muenchberg.de
SUMMARY:Krabbelgruppe
DESCRIPTION:
URL:https://cvjm-muenchberg.de/event/krabbelgruppe-39/
LOCATION:CVJM Münchberg e.V.\, Marienstraße 13\, 95213 Münchberg\, Deutschland
CATEGORIES:Kinder
END:VEVENT
BEGIN:VEVENT
DTSTART;TZID=Europe/Berlin:20250122T183000
DTEND;TZID=Europe/Berlin:20250122T203000
DTSTAMP:20260420T030102
CREATED:20241024T194236Z
LAST-MODIFIED:20250122T164914Z
UID:10000980-1737570600-1737577800@cvjm-muenchberg.de
SUMMARY:Jugendkreis
DESCRIPTION:
URL:https://cvjm-muenchberg.de/event/jugendkreis-52/
CATEGORIES:Jugend
END:VEVENT
BEGIN:VEVENT
DTSTART;TZID=Europe/Berlin:20250124T170000
DTEND;TZID=Europe/Berlin:20250124T190000
DTSTAMP:20260420T030102
CREATED:20241220T215012Z
LAST-MODIFIED:20250124T143231Z
UID:10001025-1737738000-1737745200@cvjm-muenchberg.de
SUMMARY:Jungschar
DESCRIPTION:
URL:https://cvjm-muenchberg.de/event/jungschar-19/
CATEGORIES:Kinder
END:VEVENT
BEGIN:VEVENT
DTSTART;TZID=Europe/Berlin:20250124T190000
DTEND;TZID=Europe/Berlin:20250124T220000
DTSTAMP:20260420T030102
CREATED:20241026T194502Z
LAST-MODIFIED:20250124T170235Z
UID:10000981-1737745200-1737756000@cvjm-muenchberg.de
SUMMARY:Jugendcafé
DESCRIPTION:
URL:https://cvjm-muenchberg.de/event/jugendcafe-51/
CATEGORIES:Jugend
END:VEVENT
BEGIN:VEVENT
DTSTART;TZID=Europe/Berlin:20250126T143000
DTEND;TZID=Europe/Berlin:20250126T193000
DTSTAMP:20260420T030102
CREATED:20241027T231213Z
LAST-MODIFIED:20250126T173727Z
UID:10000982-1737901800-1737919800@cvjm-muenchberg.de
SUMMARY:Oberfränkisches Vorstände- und Mitarbeitertreffen
DESCRIPTION:Münchberg
URL:https://cvjm-muenchberg.de/event/oberfraenkisches-vorstaende-und-mitarbeitertreffen-2/
END:VEVENT
BEGIN:VEVENT
DTSTART;TZID=Europe/Berlin:20250127T150000
DTEND;TZID=Europe/Berlin:20250127T163000
DTSTAMP:20260420T030102
CREATED:20241029T185721Z
LAST-MODIFIED:20250127T143735Z
UID:10000983-1737990000-1737995400@cvjm-muenchberg.de
SUMMARY:Kinderstunde
DESCRIPTION:
URL:https://cvjm-muenchberg.de/event/kinderstunde-40/
LOCATION:CVJM Münchberg e.V.\, Marienstraße 13\, 95213 Münchberg\, Deutschland
CATEGORIES:Kinder
END:VEVENT
BEGIN:VEVENT
DTSTART;TZID=Europe/Berlin:20250127T150000
DTEND;TZID=Europe/Berlin:20250127T163000
DTSTAMP:20260420T030102
CREATED:20241029T185721Z
LAST-MODIFIED:20250127T143735Z
UID:10000984-1737990000-1737995400@cvjm-muenchberg.de
SUMMARY:Krabbelgruppe
DESCRIPTION:
URL:https://cvjm-muenchberg.de/event/krabbelgruppe-40/
LOCATION:CVJM Münchberg e.V.\, Marienstraße 13\, 95213 Münchberg\, Deutschland
CATEGORIES:Kinder
END:VEVENT
BEGIN:VEVENT
DTSTART;TZID=Europe/Berlin:20250129T183000
DTEND;TZID=Europe/Berlin:20250129T203000
DTSTAMP:20260420T030102
CREATED:20241031T201215Z
LAST-MODIFIED:20250129T170729Z
UID:10000985-1738175400-1738182600@cvjm-muenchberg.de
SUMMARY:Jugendkreis
DESCRIPTION:
URL:https://cvjm-muenchberg.de/event/jugendkreis-53/
CATEGORIES:Jugend
END:VEVENT
BEGIN:VEVENT
DTSTART;TZID=Europe/Berlin:20250131T170000
DTEND;TZID=Europe/Berlin:20250131T190000
DTSTAMP:20260420T030102
CREATED:20241220T215012Z
LAST-MODIFIED:20250131T145225Z
UID:10001026-1738342800-1738350000@cvjm-muenchberg.de
SUMMARY:Jungschar
DESCRIPTION:
URL:https://cvjm-muenchberg.de/event/jungschar-20/
CATEGORIES:Kinder
END:VEVENT
BEGIN:VEVENT
DTSTART;TZID=Europe/Berlin:20250131T190000
DTEND;TZID=Europe/Berlin:20250131T220000
DTSTAMP:20260420T030102
CREATED:20241102T202732Z
LAST-MODIFIED:20250131T170728Z
UID:10000986-1738350000-1738360800@cvjm-muenchberg.de
SUMMARY:Jugendcafé
DESCRIPTION:
URL:https://cvjm-muenchberg.de/event/jugendcafe-52/
CATEGORIES:Jugend
END:VEVENT
END:VCALENDAR