BEGIN:VCALENDAR
VERSION:2.0
PRODID:-//CVJM Münchberg e.V. - ECPv6.15.18//NONSGML v1.0//EN
CALSCALE:GREGORIAN
METHOD:PUBLISH
X-ORIGINAL-URL:https://cvjm-muenchberg.de
X-WR-CALDESC:Veranstaltungen für CVJM Münchberg e.V.
REFRESH-INTERVAL;VALUE=DURATION:PT1H
X-Robots-Tag:noindex
X-PUBLISHED-TTL:PT1H
BEGIN:VTIMEZONE
TZID:Europe/Berlin
BEGIN:DAYLIGHT
TZOFFSETFROM:+0100
TZOFFSETTO:+0200
TZNAME:CEST
DTSTART:20230326T010000
END:DAYLIGHT
BEGIN:STANDARD
TZOFFSETFROM:+0200
TZOFFSETTO:+0100
TZNAME:CET
DTSTART:20231029T010000
END:STANDARD
BEGIN:DAYLIGHT
TZOFFSETFROM:+0100
TZOFFSETTO:+0200
TZNAME:CEST
DTSTART:20240331T010000
END:DAYLIGHT
BEGIN:STANDARD
TZOFFSETFROM:+0200
TZOFFSETTO:+0100
TZNAME:CET
DTSTART:20241027T010000
END:STANDARD
BEGIN:DAYLIGHT
TZOFFSETFROM:+0100
TZOFFSETTO:+0200
TZNAME:CEST
DTSTART:20250330T010000
END:DAYLIGHT
BEGIN:STANDARD
TZOFFSETFROM:+0200
TZOFFSETTO:+0100
TZNAME:CET
DTSTART:20251026T010000
END:STANDARD
END:VTIMEZONE
BEGIN:VEVENT
DTSTART;VALUE=DATE:20240802
DTEND;VALUE=DATE:20240808
DTSTAMP:20260426T003011
CREATED:20240504T172808Z
LAST-MODIFIED:20240807T195839Z
UID:10000863-1722556800-1723075199@cvjm-muenchberg.de
SUMMARY:CVJM Familienfreizeit
DESCRIPTION:
URL:https://cvjm-muenchberg.de/event/cvjm-familienfreizeit/
END:VEVENT
BEGIN:VEVENT
DTSTART;TZID=Europe/Berlin:20240802T170000
DTEND;TZID=Europe/Berlin:20240802T190000
DTSTAMP:20260426T003011
CREATED:20240630T145809Z
LAST-MODIFIED:20240802T155756Z
UID:10000898-1722618000-1722625200@cvjm-muenchberg.de
SUMMARY:Ferien - keine Jungschar
DESCRIPTION:
URL:https://cvjm-muenchberg.de/event/ferien-keine-jungschar-9/
CATEGORIES:Kinder
END:VEVENT
BEGIN:VEVENT
DTSTART;TZID=Europe/Berlin:20240802T190000
DTEND;TZID=Europe/Berlin:20240802T220000
DTSTAMP:20260426T003011
CREATED:20240504T194311Z
LAST-MODIFIED:20240801T232725Z
UID:10000864-1722625200-1722636000@cvjm-muenchberg.de
SUMMARY:Jugendcafé
DESCRIPTION:
URL:https://cvjm-muenchberg.de/event/jugendcafe-26/
CATEGORIES:Jugend
END:VEVENT
END:VCALENDAR